BEGIN:VCALENDAR
VERSION:2.0
PRODID:icalendar-ruby
CALSCALE:GREGORIAN
METHOD:PUBLISH
BEGIN:VEVENT
DTSTAMP:20260419T125925Z
UID:108-617564@mccookefree.org
DTSTART:20260418T143000Z
DTEND:20260418T160000Z
CLASS:PUBLIC
CREATED:20260416T091830
DESCRIPTION:Join us for our monthly men's and women's brunches. It's a perf
 ect opportunity for spiritual growth and fellowship. We'd love an RSVP so 
 we can ensure we have plenty of food. \n \nMen's Brunch RSVP\nWomen's Br
 unch RSVP
LAST-MODIFIED:20260416T091830
LOCATION:McCook Campus
SUMMARY:Men's & Women's Brunch
URL;VALUE=URI:https://www.mccookefree.org/events/mens-womens-brunch/2026-04
 -18
ATTACH;FILENAME=Womens--Mens-Brunch-4.18-Slide-1.png;FMTTYPE=image/png:http
 s://dq5pwpg1q8ru0.cloudfront.net/2026/03/31/18/37/18/b52c0d63-100a-4053-a2
 00-e67fc4479b4d/Womens--Mens-Brunch-4.18-Slide-1.png
END:VEVENT
END:VCALENDAR
